BEGIN:VCALENDAR
VERSION:2.0
PRODID:-//Weymouth Civic Society - ECPv6.15.12.2//NONSGML v1.0//EN
CALSCALE:GREGORIAN
METHOD:PUBLISH
X-WR-CALNAME:Weymouth Civic Society
X-ORIGINAL-URL:https://weymouthcivicsociety.org
X-WR-CALDESC:Events for Weymouth Civic Society
REFRESH-INTERVAL;VALUE=DURATION:PT1H
X-Robots-Tag:noindex
X-PUBLISHED-TTL:PT1H
BEGIN:VTIMEZONE
TZID:Europe/London
BEGIN:DAYLIGHT
TZOFFSETFROM:+0000
TZOFFSETTO:+0100
TZNAME:BST
DTSTART:20230326T010000
END:DAYLIGHT
BEGIN:STANDARD
TZOFFSETFROM:+0100
TZOFFSETTO:+0000
TZNAME:GMT
DTSTART:20231029T010000
END:STANDARD
BEGIN:DAYLIGHT
TZOFFSETFROM:+0000
TZOFFSETTO:+0100
TZNAME:BST
DTSTART:20240331T010000
END:DAYLIGHT
BEGIN:STANDARD
TZOFFSETFROM:+0100
TZOFFSETTO:+0000
TZNAME:GMT
DTSTART:20241027T010000
END:STANDARD
BEGIN:DAYLIGHT
TZOFFSETFROM:+0000
TZOFFSETTO:+0100
TZNAME:BST
DTSTART:20250330T010000
END:DAYLIGHT
BEGIN:STANDARD
TZOFFSETFROM:+0100
TZOFFSETTO:+0000
TZNAME:GMT
DTSTART:20251026T010000
END:STANDARD
END:VTIMEZONE
BEGIN:VEVENT
DTSTART;TZID=Europe/London:20240523T183000
DTEND;TZID=Europe/London:20240523T210000
DTSTAMP:20260422T003504
CREATED:20230928T054800Z
LAST-MODIFIED:20240925T210238Z
UID:8101-1716489000-1716498000@weymouthcivicsociety.org
SUMMARY:Talk - The Archaeology of North Quay/High West St.
DESCRIPTION:Talk – The Archaeology of North Quay/High West St. by Richard O’Connell of Context One Archaeology. \nContext One Heritage & Archaeology carried out an excavation in the car park around the former Weymouth and Portland Borough Council offices in the autumn of 2023 as part of the demolition programme for Dorset Council. \nThe site previously encompassed the historic core of Weymouth town. Following successful community involvement in an archaeological evaluation on the site in 2021\, which also spawned an oral history project\, Context One proposed a similar community project for the excavation. \nOver a 12 week period\, more than 80 volunteers\, many from Dig the Street community group\, took part in a highly successful investigation that produced evidence from the early genesis of Weymouth as a town right up to the 1960s when the High Street was demolished. \nRichard will be talking about the initial findings of this unique excavation and what it means for our understanding of how Weymouth may have developed over the last 800 years. \nRefreshments from 6.30pm\, talk at 7pm. \nDonations welcome towards the work of Weymouth Civic Society.
URL:https://weymouthcivicsociety.org/event/live-music-the-royal-oak/
LOCATION:Pilgrim House\, 1 Hope Square\, Weymouth\, United Kingdom
CATEGORIES:WCS Talks
ATTACH;FMTTYPE=image/jpeg:https://weymouthcivicsociety.org/wp-content/uploads/2023/09/53316441609_9aef9c8a41_k.jpg
END:VEVENT
END:VCALENDAR