BEGIN:VCALENDAR
VERSION:2.0
PRODID:-//Weymouth Civic Society - ECPv6.15.12.2//NONSGML v1.0//EN
CALSCALE:GREGORIAN
METHOD:PUBLISH
X-WR-CALNAME:Weymouth Civic Society
X-ORIGINAL-URL:https://weymouthcivicsociety.org
X-WR-CALDESC:Events for Weymouth Civic Society
REFRESH-INTERVAL;VALUE=DURATION:PT1H
X-Robots-Tag:noindex
X-PUBLISHED-TTL:PT1H
BEGIN:VTIMEZONE
TZID:Europe/London
BEGIN:DAYLIGHT
TZOFFSETFROM:+0000
TZOFFSETTO:+0100
TZNAME:BST
DTSTART:20230326T010000
END:DAYLIGHT
BEGIN:STANDARD
TZOFFSETFROM:+0100
TZOFFSETTO:+0000
TZNAME:GMT
DTSTART:20231029T010000
END:STANDARD
BEGIN:DAYLIGHT
TZOFFSETFROM:+0000
TZOFFSETTO:+0100
TZNAME:BST
DTSTART:20240331T010000
END:DAYLIGHT
BEGIN:STANDARD
TZOFFSETFROM:+0100
TZOFFSETTO:+0000
TZNAME:GMT
DTSTART:20241027T010000
END:STANDARD
BEGIN:DAYLIGHT
TZOFFSETFROM:+0000
TZOFFSETTO:+0100
TZNAME:BST
DTSTART:20250330T010000
END:DAYLIGHT
BEGIN:STANDARD
TZOFFSETFROM:+0100
TZOFFSETTO:+0000
TZNAME:GMT
DTSTART:20251026T010000
END:STANDARD
END:VTIMEZONE
BEGIN:VEVENT
DTSTART;TZID=Europe/London:20241128T183000
DTEND;TZID=Europe/London:20241128T203000
DTSTAMP:20260422T054856
CREATED:20240925T205908Z
LAST-MODIFIED:20240925T210127Z
UID:9408-1732818600-1732825800@weymouthcivicsociety.org
SUMMARY:Talk - ‘The Most Remarkable Spot’: The Histories of St Andrew’s Church and Rufus Castle
DESCRIPTION:Talk – ‘The Most Remarkable Spot’:\n The Histories of St Andrew’s Church and Rufus Castle on Portland \nBy Johanna Roethe\, Historic England Architectural Investigator \nThere’s no charge for this talk and it’s open to both members and non-members. Donations to the work of Weymouth Civic Society are welcome. \nRefreshments available from 6.30pm and the talk is at 7pm. \n \n  \n 
URL:https://weymouthcivicsociety.org/event/talk-the-most-remarkable-spot-the-histories-of-st-andrews-church-and-rufus-castle/
LOCATION:Pilgrim House\, 1 Hope Square\, Weymouth\, United Kingdom
CATEGORIES:WCS Talks
ATTACH;FMTTYPE=image/jpeg:https://weymouthcivicsociety.org/wp-content/uploads/2024/09/Rufus-Castle-Portland.jpg
END:VEVENT
END:VCALENDAR