BEGIN:VCALENDAR
VERSION:2.0
PRODID:-//Weymouth Civic Society - ECPv6.15.12.2//NONSGML v1.0//EN
CALSCALE:GREGORIAN
METHOD:PUBLISH
X-WR-CALNAME:Weymouth Civic Society
X-ORIGINAL-URL:https://weymouthcivicsociety.org
X-WR-CALDESC:Events for Weymouth Civic Society
REFRESH-INTERVAL;VALUE=DURATION:PT1H
X-Robots-Tag:noindex
X-PUBLISHED-TTL:PT1H
BEGIN:VTIMEZONE
TZID:Europe/London
BEGIN:DAYLIGHT
TZOFFSETFROM:+0000
TZOFFSETTO:+0100
TZNAME:BST
DTSTART:20230326T010000
END:DAYLIGHT
BEGIN:STANDARD
TZOFFSETFROM:+0100
TZOFFSETTO:+0000
TZNAME:GMT
DTSTART:20231029T010000
END:STANDARD
BEGIN:DAYLIGHT
TZOFFSETFROM:+0000
TZOFFSETTO:+0100
TZNAME:BST
DTSTART:20240331T010000
END:DAYLIGHT
BEGIN:STANDARD
TZOFFSETFROM:+0100
TZOFFSETTO:+0000
TZNAME:GMT
DTSTART:20241027T010000
END:STANDARD
BEGIN:DAYLIGHT
TZOFFSETFROM:+0000
TZOFFSETTO:+0100
TZNAME:BST
DTSTART:20250330T010000
END:DAYLIGHT
BEGIN:STANDARD
TZOFFSETFROM:+0100
TZOFFSETTO:+0000
TZNAME:GMT
DTSTART:20251026T010000
END:STANDARD
END:VTIMEZONE
BEGIN:VEVENT
DTSTART;TZID=Europe/London:20240620T190000
DTEND;TZID=Europe/London:20240620T213000
DTSTAMP:20260422T011540
CREATED:20240611T083141Z
LAST-MODIFIED:20240611T083141Z
UID:9285-1718910000-1718919000@weymouthcivicsociety.org
SUMMARY:WCS Annual Awards
DESCRIPTION:Members are invited to join us for the annual presentation of awards by Weymouth Civic Society. \nThe categories are: \n\nBuilt Environment\nArts & Culture\nNatural Environment\nImproving Lifestyle\nHeritage
URL:https://weymouthcivicsociety.org/event/wcs-annual-awards/
LOCATION:Nothe Fort\, Barrack Road\, Weymouth\, Dorset\, DT4 8UF\, United Kingdom
ATTACH;FMTTYPE=image/jpeg:https://weymouthcivicsociety.org/wp-content/uploads/2024/06/WCS-Award-Plaque.jpg
ORGANIZER;CN="Weymouth Civic Society":MAILTO:info@weymouthcivicsociety.org
END:VEVENT
END:VCALENDAR