BEGIN:VCALENDAR
VERSION:2.0
PRODID:-//Weymouth Civic Society - ECPv6.15.12.2//NONSGML v1.0//EN
CALSCALE:GREGORIAN
METHOD:PUBLISH
X-WR-CALNAME:Weymouth Civic Society
X-ORIGINAL-URL:https://weymouthcivicsociety.org
X-WR-CALDESC:Events for Weymouth Civic Society
REFRESH-INTERVAL;VALUE=DURATION:PT1H
X-Robots-Tag:noindex
X-PUBLISHED-TTL:PT1H
BEGIN:VTIMEZONE
TZID:Europe/London
BEGIN:DAYLIGHT
TZOFFSETFROM:+0000
TZOFFSETTO:+0100
TZNAME:BST
DTSTART:20240331T010000
END:DAYLIGHT
BEGIN:STANDARD
TZOFFSETFROM:+0100
TZOFFSETTO:+0000
TZNAME:GMT
DTSTART:20241027T010000
END:STANDARD
BEGIN:DAYLIGHT
TZOFFSETFROM:+0000
TZOFFSETTO:+0100
TZNAME:BST
DTSTART:20250330T010000
END:DAYLIGHT
BEGIN:STANDARD
TZOFFSETFROM:+0100
TZOFFSETTO:+0000
TZNAME:GMT
DTSTART:20251026T010000
END:STANDARD
BEGIN:DAYLIGHT
TZOFFSETFROM:+0000
TZOFFSETTO:+0100
TZNAME:BST
DTSTART:20260329T010000
END:DAYLIGHT
BEGIN:STANDARD
TZOFFSETFROM:+0100
TZOFFSETTO:+0000
TZNAME:GMT
DTSTART:20261025T010000
END:STANDARD
END:VTIMEZONE
BEGIN:VEVENT
DTSTART;TZID=Europe/London:20250424T183000
DTEND;TZID=Europe/London:20250424T203000
DTSTAMP:20260422T001900
CREATED:20250226T111554Z
LAST-MODIFIED:20250226T111905Z
UID:9463-1745519400-1745526600@weymouthcivicsociety.org
SUMMARY:Talk - Weymouth Town Bridge - history and future repairs
DESCRIPTION:Talk – Weymouth Town Bridge – history and future repairs\nBy James Statham and Kevin Davies DorsetCouncil Bridges Officers \n\nThere’s no charge for this presentation and it’s open to both members and non-members. Donations to the work of Weymouth Civic Society are welcome.\n\nRefreshments available from 6.30pm and the talk is at 7pm. \n  \n  \n 
URL:https://weymouthcivicsociety.org/event/weymouth-town-bridge-history-and-future-repairs/
LOCATION:Pilgrim House\, 1 Hope Square\, Weymouth\, United Kingdom
CATEGORIES:WCS Talks
ATTACH;FMTTYPE=image/jpeg:https://weymouthcivicsociety.org/wp-content/uploads/2025/02/Town-Bridge.jpg
END:VEVENT
END:VCALENDAR